
BEGIN:VCALENDAR
VERSION:2.0
PRODID:-//Mairie de Verrens Arvey - Savoie (73) - ECPv6.15.0.1//NONSGML v1.0//EN
CALSCALE:GREGORIAN
METHOD:PUBLISH
X-WR-CALNAME:Mairie de Verrens Arvey - Savoie (73)
X-ORIGINAL-URL:https://verrens-arvey.fr
X-WR-CALDESC:Évènements pour Mairie de Verrens Arvey - Savoie (73)
REFRESH-INTERVAL;VALUE=DURATION:PT1H
X-Robots-Tag:noindex
X-PUBLISHED-TTL:PT1H
BEGIN:VTIMEZONE
TZID:Europe/Helsinki
BEGIN:DAYLIGHT
TZOFFSETFROM:+0200
TZOFFSETTO:+0300
TZNAME:EEST
DTSTART:20220327T010000
END:DAYLIGHT
BEGIN:STANDARD
TZOFFSETFROM:+0300
TZOFFSETTO:+0200
TZNAME:EET
DTSTART:20221030T010000
END:STANDARD
END:VTIMEZONE
BEGIN:VEVENT
DTSTART;TZID=Europe/Helsinki:20220120T080000
DTEND;TZID=Europe/Helsinki:20220219T170000
DTSTAMP:20260420T172347
CREATED:20220104T075032Z
LAST-MODIFIED:20220104T080013Z
UID:4743-1642665600-1645290000@verrens-arvey.fr
SUMMARY:Recensement de la population
DESCRIPTION:A partir du 20 janvier et jusqu’au 19 février 2022\, le recensement de la population de Verrens-Arvey s’organise.\nMathilde MEGALI et Odile CHEVANCE sont recrutés en tant qu’agents recenseurs et se promèneront dans la Commune pour aller à la rencontre de ses habitants. \nPour le bon déroulement de leurs missions\, nous vous demandons de leur réserver le meilleur accueil.
URL:https://verrens-arvey.fr/agenda/recensement-de-la-population/
ATTACH;FMTTYPE=image/png:https://verrens-arvey.fr/wp-content/uploads/2022/01/image_recensement-demarre_MAG.png
END:VEVENT
END:VCALENDAR