
BEGIN:VCALENDAR
VERSION:2.0
PRODID:-//Mairie de Verrens Arvey - Savoie (73) - ECPv6.15.0.1//NONSGML v1.0//EN
CALSCALE:GREGORIAN
METHOD:PUBLISH
X-WR-CALNAME:Mairie de Verrens Arvey - Savoie (73)
X-ORIGINAL-URL:https://verrens-arvey.fr
X-WR-CALDESC:Évènements pour Mairie de Verrens Arvey - Savoie (73)
REFRESH-INTERVAL;VALUE=DURATION:PT1H
X-Robots-Tag:noindex
X-PUBLISHED-TTL:PT1H
BEGIN:VTIMEZONE
TZID:Europe/Helsinki
BEGIN:DAYLIGHT
TZOFFSETFROM:+0200
TZOFFSETTO:+0300
TZNAME:EEST
DTSTART:20210328T010000
END:DAYLIGHT
BEGIN:STANDARD
TZOFFSETFROM:+0300
TZOFFSETTO:+0200
TZNAME:EET
DTSTART:20211031T010000
END:STANDARD
END:VTIMEZONE
BEGIN:VEVENT
DTSTART;TZID=Europe/Helsinki:20211217T080000
DTEND;TZID=Europe/Helsinki:20211217T180000
DTSTAMP:20260420T205420
CREATED:20211209T140325Z
LAST-MODIFIED:20211209T141229Z
UID:4720-1639728000-1639764000@verrens-arvey.fr
SUMMARY:Venez nombreux !
DESCRIPTION:
URL:https://verrens-arvey.fr/agenda/venez-nombreux/
ATTACH;FMTTYPE=image/jpeg:https://verrens-arvey.fr/wp-content/uploads/2021/12/vin-chaud.jpg
END:VEVENT
END:VCALENDAR