
BEGIN:VCALENDAR
VERSION:2.0
PRODID:-//Mairie de Verrens Arvey - Savoie (73) - ECPv6.15.0.1//NONSGML v1.0//EN
CALSCALE:GREGORIAN
METHOD:PUBLISH
X-ORIGINAL-URL:https://verrens-arvey.fr
X-WR-CALDESC:Évènements pour Mairie de Verrens Arvey - Savoie (73)
REFRESH-INTERVAL;VALUE=DURATION:PT1H
X-Robots-Tag:noindex
X-PUBLISHED-TTL:PT1H
BEGIN:VTIMEZONE
TZID:Europe/Helsinki
BEGIN:DAYLIGHT
TZOFFSETFROM:+0200
TZOFFSETTO:+0300
TZNAME:EEST
DTSTART:20210328T010000
END:DAYLIGHT
BEGIN:STANDARD
TZOFFSETFROM:+0300
TZOFFSETTO:+0200
TZNAME:EET
DTSTART:20211031T010000
END:STANDARD
END:VTIMEZONE
BEGIN:VEVENT
DTSTART;TZID=Europe/Helsinki:20211128T100000
DTEND;TZID=Europe/Helsinki:20211128T180000
DTSTAMP:20260420T224558
CREATED:20211118T095516Z
LAST-MODIFIED:20211118T095516Z
UID:4702-1638093600-1638122400@verrens-arvey.fr
SUMMARY:Marché de Noël
DESCRIPTION:
URL:https://verrens-arvey.fr/agenda/marche-de-noel/
ATTACH;FMTTYPE=image/png:https://verrens-arvey.fr/wp-content/uploads/2021/11/Marche-de-Noel.png
END:VEVENT
END:VCALENDAR