
BEGIN:VCALENDAR
VERSION:2.0
PRODID:-//Mairie de Verrens Arvey - Savoie (73) - ECPv6.15.0.1//NONSGML v1.0//EN
CALSCALE:GREGORIAN
METHOD:PUBLISH
X-WR-CALNAME:Mairie de Verrens Arvey - Savoie (73)
X-ORIGINAL-URL:https://verrens-arvey.fr
X-WR-CALDESC:Évènements pour Mairie de Verrens Arvey - Savoie (73)
REFRESH-INTERVAL;VALUE=DURATION:PT1H
X-Robots-Tag:noindex
X-PUBLISHED-TTL:PT1H
BEGIN:VTIMEZONE
TZID:Europe/Helsinki
BEGIN:DAYLIGHT
TZOFFSETFROM:+0200
TZOFFSETTO:+0300
TZNAME:EEST
DTSTART:20200329T010000
END:DAYLIGHT
BEGIN:STANDARD
TZOFFSETFROM:+0300
TZOFFSETTO:+0200
TZNAME:EET
DTSTART:20201025T010000
END:STANDARD
END:VTIMEZONE
BEGIN:VEVENT
DTSTART;TZID=Europe/Helsinki:20201103T080000
DTEND;TZID=Europe/Helsinki:20201103T170000
DTSTAMP:20260421T202832
CREATED:20201103T160457Z
LAST-MODIFIED:20201103T160918Z
UID:4330-1604390400-1604422800@verrens-arvey.fr
SUMMARY:Actualités EJP
DESCRIPTION:C’est le retour de l’EJP (Effacement Jour de Pointe) ! \nComme chaque année\, le 1er novembre signifie que la période des EJP reprend jusqu’au 31 mars.\n400 000 foyers français sont encore abonnés à cette offre EDF sortie des ventes depuis 1998. Pour rappel\, cette offre consiste à proposer aux clients 343 jours d’électricité à un prix inférieur à la normale\, et 22 jours durant lesquels le prix est très élevé. EDF ne décide que la veille au lendemain s’ il s’agit d’un EJP.\nPour suivre les choix d’EDF\, surveillez le calendrier EJP quotidiennement.
URL:https://verrens-arvey.fr/agenda/modification-des-horaires-de-la-mairie/
ATTACH;FMTTYPE=image/jpeg:https://verrens-arvey.fr/wp-content/uploads/2020/11/ejp.jpg
END:VEVENT
END:VCALENDAR