
BEGIN:VCALENDAR
VERSION:2.0
PRODID:-//Mairie de Verrens Arvey - Savoie (73) - ECPv6.15.0.1//NONSGML v1.0//EN
CALSCALE:GREGORIAN
METHOD:PUBLISH
X-WR-CALNAME:Mairie de Verrens Arvey - Savoie (73)
X-ORIGINAL-URL:https://verrens-arvey.fr
X-WR-CALDESC:Évènements pour Mairie de Verrens Arvey - Savoie (73)
REFRESH-INTERVAL;VALUE=DURATION:PT1H
X-Robots-Tag:noindex
X-PUBLISHED-TTL:PT1H
BEGIN:VTIMEZONE
TZID:Europe/Helsinki
BEGIN:DAYLIGHT
TZOFFSETFROM:+0200
TZOFFSETTO:+0300
TZNAME:EEST
DTSTART:20200329T010000
END:DAYLIGHT
BEGIN:STANDARD
TZOFFSETFROM:+0300
TZOFFSETTO:+0200
TZNAME:EET
DTSTART:20201025T010000
END:STANDARD
END:VTIMEZONE
BEGIN:VEVENT
DTSTART;TZID=Europe/Helsinki:20200903T080000
DTEND;TZID=Europe/Helsinki:20200903T170000
DTSTAMP:20260421T235833
CREATED:20200903T124704Z
LAST-MODIFIED:20200908T092600Z
UID:4262-1599120000-1599152400@verrens-arvey.fr
SUMMARY:REPRISE SPORTIVE DU JAC !
DESCRIPTION:
URL:https://verrens-arvey.fr/agenda/reprise-sportive-du-jac/
ATTACH;FMTTYPE=image/png:https://verrens-arvey.fr/wp-content/uploads/2020/09/JAC-2020.png
END:VEVENT
BEGIN:VEVENT
DTSTART;VALUE=DATE:20200907
DTEND;VALUE=DATE:20200909
DTSTAMP:20260421T235833
CREATED:20200908T092932Z
LAST-MODIFIED:20200908T092949Z
UID:4275-1599436800-1599609599@verrens-arvey.fr
SUMMARY:Reprise sportive Gym Douce et Pilates
DESCRIPTION:
URL:https://verrens-arvey.fr/agenda/reprise-sportive-gym-douce/
LOCATION:Salle Associative
ATTACH;FMTTYPE=image/png:https://verrens-arvey.fr/wp-content/uploads/2020/09/JAC-2020.png
END:VEVENT
BEGIN:VEVENT
DTSTART;VALUE=DATE:20200914
DTEND;VALUE=DATE:20200915
DTSTAMP:20260421T235833
CREATED:20200908T092531Z
LAST-MODIFIED:20200908T092803Z
UID:4272-1600041600-1600041600@verrens-arvey.fr
SUMMARY:Reprise du Taï chi et Qi gong
DESCRIPTION:
URL:https://verrens-arvey.fr/agenda/reprise-du-tai-chi-et-gi-gong/
LOCATION:Salle Associative
ATTACH;FMTTYPE=image/png:https://verrens-arvey.fr/wp-content/uploads/2020/09/tai-chi.png
END:VEVENT
BEGIN:VEVENT
DTSTART;VALUE=DATE:20200914
DTEND;VALUE=DATE:20200915
DTSTAMP:20260421T235833
CREATED:20200910T155923Z
LAST-MODIFIED:20200910T155958Z
UID:4278-1600041600-1600127999@verrens-arvey.fr
SUMMARY:Reprise de la GV
DESCRIPTION:
URL:https://verrens-arvey.fr/agenda/reprise-de-la-gv/
ATTACH;FMTTYPE=image/png:https://verrens-arvey.fr/wp-content/uploads/2020/09/GV-2020.png
END:VEVENT
END:VCALENDAR